BEGIN:VCALENDAR
VERSION:2.0
PRODID:-//Count on Cooling - ECPv5.0.2.1//NONSGML v1.0//EN
CALSCALE:GREGORIAN
METHOD:PUBLISH
X-WR-CALNAME:Count on Cooling
X-ORIGINAL-URL:https://countoncooling.eu
X-WR-CALDESC:Events for Count on Cooling
BEGIN:VTIMEZONE
TZID:Europe/Brussels
BEGIN:DAYLIGHT
TZOFFSETFROM:+0100
TZOFFSETTO:+0200
TZNAME:CEST
DTSTART:20190331T010000
END:DAYLIGHT
BEGIN:STANDARD
TZOFFSETFROM:+0200
TZOFFSETTO:+0100
TZNAME:CET
DTSTART:20191027T010000
END:STANDARD
END:VTIMEZONE
BEGIN:VEVENT
DTSTART;TZID=Europe/Brussels:20191205T130000
DTEND;TZID=Europe/Brussels:20191205T144500
DTSTAMP:20260421T143358
CREATED:20191203T120001Z
LAST-MODIFIED:20191212T171214Z
UID:1789-1575550800-1575557100@countoncooling.eu
SUMMARY:COP25 - "Sustainable Cooling in a Warming World"
DESCRIPTION:On Thursday 5 December 2019 from 13.00 to 14.45\, Andrea Voigt\, EPEE’s Director General\, will speak at the below event organised by the Cool Coalition\, WWF\, UN Environment and EP100. Read more about the event below! \nSustainable cooling in a warming world\nMadrid\, COP25\, PandaHub \nThursday 5 December 2019\, 13.00-14.45. \nThe Cool Coalition\, WWF\, UN Environment and EP100 will host a side event on « Sustainable cooling in a warming world » at the COP25 PandaHub on Thursday 5 December from 13.00 to 14.45 (Madrid\, Spain). \nClick here to register! \nOVERVIEW \n\nAccess to cooling is vital to achieve many of the Sustainable Development Goals (e.g. access to clean energy\, ensuring health and well-being\, etc.).\nYet the development of the cooling sector is also threatening our efforts to limit global temperature rise to 1.5°C. Today\, most refrigerants are also strong greenhouse gases. And the sector is particularly energy-intensive: it accounts for 17% of global electricity today and without significant improvements in energy efficiency\, energy demand for cooling is set to grow five-fold by 2050.\nOur future needn’t be so bleak. This event will showcase the concrete actions and opportunities that exist to avoid\, shift and improve cooling practices in various sectors in order to provide cooling for all while limiting global temperature rise to 1.5°C.\nIt will bring together experts from national and local governments\, businesses and civil society that are pioneers in these fields with the aim to inspire others to take action on climate-friendly\, efficient cooling.\n\nA light lunch will be provided. \nINVITED SPEAKERS AND PANELISTS \n\nJenny Calder\, Global expert on energy efficiency\, WWF\nAnirban Ghosh\, Chief Sustainability Officer\, Mahindra Rise\nHu Min\, China Advisor\, Kigali Cooling Efficiency Programme\nMark Radka\, Chief of the Energy & Climate Branch\, UN Environment Programme\nAndrea Voigt\, Director General\, EPEE\nGovernment representative (tbc)\n\n  \n\n\n\nFOR FURTHER INFORMATION CONTACT: \nJenny Calder \nGlobal expert on energy efficiency\, WWF \nTel No. +33 6 17 84 66 96 \njcalder@wwf.fr\n\n\n\n\n
URL:https://countoncooling.eu/index.php/event/cool-coalition-cop25-side-event-sustainable-cooling-in-a-warming-world/
LOCATION:COP25 PandaHub\, Madrid\, Spain\, Madrid\, Spain
CATEGORIES:Past events
ATTACH;FMTTYPE=image/png:https://countoncooling.eu/wp-content/uploads/2019/11/COP25-SIDE-EVENT-1.png
END:VEVENT
END:VCALENDAR